BEGIN:VCALENDAR
VERSION:2.0
PRODID:-//Acro Gravity Academy - ECPv6.15.20//NONSGML v1.0//EN
CALSCALE:GREGORIAN
METHOD:PUBLISH
X-ORIGINAL-URL:https://acrogravity.com
X-WR-CALDESC:Events for Acro Gravity Academy
REFRESH-INTERVAL;VALUE=DURATION:PT1H
X-Robots-Tag:noindex
X-PUBLISHED-TTL:PT1H
BEGIN:VTIMEZONE
TZID:UTC
BEGIN:STANDARD
TZOFFSETFROM:+0000
TZOFFSETTO:+0000
TZNAME:UTC
DTSTART:20240101T000000
END:STANDARD
END:VTIMEZONE
BEGIN:VEVENT
DTSTART;TZID=UTC:20250928T153000
DTEND;TZID=UTC:20250928T180000
DTSTAMP:20260422T045709
CREATED:20250714T180940Z
LAST-MODIFIED:20250926T154201Z
UID:1847-1759073400-1759082400@acrogravity.com
SUMMARY:5th Year Anniversary!
DESCRIPTION:WE CAN’T WAIT FOR THIS BIG DAY! \n  \n🎉 Join Us for Our 5th Year Anniversary Celebration! 🎉We’re celebrating five incredible years of creativity\, community\, and circus magic! Come enjoy live performances\, music\, food\, and special surprises as we honor our journey and the amazing people who made it all possible. Let’s celebrate this milestone together with joy\, gratitude\, and unforgettable moments! \nYou don’t want to miss it! \n  \n📍1935 NE 150th St\, North Miami\, Fl 33181 \n  \nwhatsapp icon: 954-284-1823/ www.acrogravity.com \nAre you a business that would like to be sponsored at our event ? \n  \nSend us an email to acrogravityacademy@gmail.com and we will provide you with our different types of Sponsor Packages we have.
URL:https://acrogravity.com/event/5th-year-anniversary/
LOCATION:Acro Gravity Academy\, 1935 NE 150th Street\, North Miami\, FL\, 33181\, United States
END:VEVENT
END:VCALENDAR