BEGIN:VCALENDAR
VERSION:2.0
PRODID:-//Acro Gravity Academy - ECPv6.15.20//NONSGML v1.0//EN
CALSCALE:GREGORIAN
METHOD:PUBLISH
X-WR-CALNAME:Acro Gravity Academy
X-ORIGINAL-URL:https://acrogravity.com
X-WR-CALDESC:Events for Acro Gravity Academy
REFRESH-INTERVAL;VALUE=DURATION:PT1H
X-Robots-Tag:noindex
X-PUBLISHED-TTL:PT1H
BEGIN:VTIMEZONE
TZID:UTC
BEGIN:STANDARD
TZOFFSETFROM:+0000
TZOFFSETTO:+0000
TZNAME:UTC
DTSTART:20190101T000000
END:STANDARD
END:VTIMEZONE
BEGIN:VTIMEZONE
TZID:America/New_York
BEGIN:DAYLIGHT
TZOFFSETFROM:-0500
TZOFFSETTO:-0400
TZNAME:EDT
DTSTART:20190310T070000
END:DAYLIGHT
BEGIN:STANDARD
TZOFFSETFROM:-0400
TZOFFSETTO:-0500
TZNAME:EST
DTSTART:20191103T060000
END:STANDARD
BEGIN:DAYLIGHT
TZOFFSETFROM:-0500
TZOFFSETTO:-0400
TZNAME:EDT
DTSTART:20200308T070000
END:DAYLIGHT
BEGIN:STANDARD
TZOFFSETFROM:-0400
TZOFFSETTO:-0500
TZNAME:EST
DTSTART:20201101T060000
END:STANDARD
BEGIN:DAYLIGHT
TZOFFSETFROM:-0500
TZOFFSETTO:-0400
TZNAME:EDT
DTSTART:20210314T070000
END:DAYLIGHT
BEGIN:STANDARD
TZOFFSETFROM:-0400
TZOFFSETTO:-0500
TZNAME:EST
DTSTART:20211107T060000
END:STANDARD
END:VTIMEZONE
BEGIN:VEVENT
DTSTART;TZID=UTC:20201204T173000
DTEND;TZID=UTC:20201204T190000
DTSTAMP:20260422T225708
CREATED:20201123T153624Z
LAST-MODIFIED:20201123T174139Z
UID:1041-1607103000-1607108400@acrogravity.com
SUMMARY:Aerial Rope Workshop
DESCRIPTION:Introduction to dynamic movement in Rope. We will work on your beats and tempos\, the base to develop dynamic and catch-release movements. \nWorkshop Dates: \nDecember 4\, 11\, 18th \n \nAbout Silvia: \nSilvia’s training started in Rythmic gymnastics at the age of seven. She represented Spain in 2007 in The AGG world championship\, Finland. In 2010 she graduated in physical therapy and worked in France for two years. She started her aerial training in the National Circus School in London. Since then\, she has been performing in different companies among them Barnum uk tour Musical by Cameron Mackintosh\, Cirque du Soleil at sea and International Budapest Circus festival. Until March 2020 she performed in AXEL the new ice show of Cirque du Soleil.
URL:https://acrogravity.com/event/aerial-rope-workshop/
LOCATION:Acro Gravity Academy\, 1935 NE 150th Street\, North Miami\, FL\, 33181\, United States
END:VEVENT
BEGIN:VEVENT
DTSTART;TZID=UTC:20201115T163000
DTEND;TZID=UTC:20201115T193000
DTSTAMP:20260422T225708
CREATED:20201025T214505Z
LAST-MODIFIED:20201025T214505Z
UID:1030-1605457800-1605468600@acrogravity.com
SUMMARY:GRAND OPENING!
DESCRIPTION:WE CAN’T WAIT FOR THIS BIG DAY WHERE WE WILL BE HOSTING OUR GRAND OPENING SO EVERYONE CAN UNDERSTAND WHAT WE ARE ALL ABOUT! THIS EVENT WILL BE HOSTED LIVE! \n\nSCHEDULE: \n\n4:30PM – 5:30PM: Games and Surprise guests for the entire family! Interactive Magic Show and demo intro classes included! \n\n5:30PM-6:30PM: Reception for Grand Opening! \n\n6PM -7PM: GRAND OPENING EVENT! Includes a breathtaking show where you will see a diversity all Circus Arts! You won’t want to miss it! \n\nAre you a business that would like to be sponsored at our event ? \n\nSend us an email at acrogravityacademy@gmail.com and we will provide you with our different types of Sponsor Packages we have.
URL:https://acrogravity.com/event/grand-opening/
LOCATION:FL
END:VEVENT
BEGIN:VEVENT
DTSTART;TZID=UTC:20200926T170000
DTEND;TZID=UTC:20200926T190000
DTSTAMP:20260422T225708
CREATED:20200917T224905Z
LAST-MODIFIED:20200917T224905Z
UID:1010-1601139600-1601146800@acrogravity.com
SUMMARY:Hoola Hoop Workshop
DESCRIPTION:This workshop is for those who are interested in learning special tricks with the hoola hoop and want to have fun! \nhttps://acrogravity.com/wp-content/uploads/2020/09/hoola-workshop.mp4\nMeet the Instructor: \nAlesya Gulevich is a true modern circus artist and entertainer. She has a strong background in dance and choreography\, having studied ballet and modern jazz. She is well versed in all the circus arts from comedy to flying trapeze. Performances in renowned venues (Sporting Club Monte Carlo\, Lincoln Center New York\, Cirque d’Hiver Bouglione)\, for famous clients (NBA\, Microsoft\, Toys’r’us) and popular TV shows (America Got Talent\, Ellen Degeneres “The Big Show”\, Patrick Sebastian’s “Les Le Plus Grande Cabaret du Monde”) prove that there is no doubt: Alesya Gulevich has taken her career to the highest level of show business. \nThe fact that Alesya Gulevich is a three time Guinness World Record holder\, with the most Hula Hoops simultaneously spun at one time\, should come as no surprise. Alesya was born into the rich heritage of the Russian circus\, the most respected of circus traditions.
URL:https://acrogravity.com/event/hoola-hoop-workshop/
LOCATION:FL
END:VEVENT
BEGIN:VEVENT
DTSTART;TZID=UTC:20200926T110000
DTEND;TZID=UTC:20200926T130000
DTSTAMP:20260422T225708
CREATED:20200914T011119Z
LAST-MODIFIED:20200917T223717Z
UID:1001-1601118000-1601125200@acrogravity.com
SUMMARY:Lollipop Beginner Workshop
DESCRIPTION:This workshop will help build strength\, endurance and flexibility with the right technique.\n\n\n\n\n\n\n\n\n\nDevelop confidence and get fit at the same time!\nDiscover what your body can do!\n\nhttps://acrogravity.com/wp-content/uploads/2020/09/WhatsApp-Video-2020-09-13-at-9.09.33-PM.mp4
URL:https://acrogravity.com/event/lollipop-beginner-workshop/
LOCATION:FL
END:VEVENT
BEGIN:VEVENT
DTSTART;TZID=UTC:20200919T170000
DTEND;TZID=UTC:20200919T190000
DTSTAMP:20260422T225708
CREATED:20200914T012210Z
LAST-MODIFIED:20200914T012353Z
UID:1006-1600534800-1600542000@acrogravity.com
SUMMARY:Straps Intensive Workshop
DESCRIPTION:In this workshop you will learn how to develop your aerial skills but also how to understand your body in the air.\n\n\n\n\n\n\n\n\n\nTo better understand technique\nMethodically moving from one element to other\nDrills and preparation\n\nhttps://acrogravity.com/wp-content/uploads/2020/09/straps.mp4
URL:https://acrogravity.com/event/straps-intensive-workshop/
LOCATION:FL
END:VEVENT
BEGIN:VEVENT
DTSTART;TZID=America/New_York:20200717T180000
DTEND;TZID=America/New_York:20200717T190000
DTSTAMP:20260422T225708
CREATED:20200627T170003Z
LAST-MODIFIED:20200708T005645Z
UID:955-1595008800-1595012400@acrogravity.com
SUMMARY:Magic & Mayhem
DESCRIPTION:Join the countless audiences who have been enraptured by this performance of side-splitting comedy and mind-boggling mysticism. Watch Dizzy bend reality as easily as he wields his mischievous charm with sleight of hand\, mentalism\, and audacious audience interactions. Kids and adults alike will be delightful by the friendly fun!
URL:https://acrogravity.com/event/magic-mayhem/
LOCATION:FL
ATTACH;FMTTYPE=image/jpeg:https://acrogravity.com/wp-content/uploads/2020/06/C7A926F0-FC21-4AEE-A7BC-63215E891E47.jpeg
END:VEVENT
END:VCALENDAR