BEGIN:VCALENDAR
VERSION:2.0
PRODID:-//Acro Gravity Academy - ECPv6.15.20//NONSGML v1.0//EN
CALSCALE:GREGORIAN
METHOD:PUBLISH
X-ORIGINAL-URL:https://acrogravity.com
X-WR-CALDESC:Events for Acro Gravity Academy
REFRESH-INTERVAL;VALUE=DURATION:PT1H
X-Robots-Tag:noindex
X-PUBLISHED-TTL:PT1H
BEGIN:VTIMEZONE
TZID:UTC
BEGIN:STANDARD
TZOFFSETFROM:+0000
TZOFFSETTO:+0000
TZNAME:UTC
DTSTART:20230101T000000
END:STANDARD
END:VTIMEZONE
BEGIN:VEVENT
DTSTART;TZID=UTC:20241030T194500
DTEND;TZID=UTC:20241030T224500
DTSTAMP:20260421T225446
CREATED:20241011T145924Z
LAST-MODIFIED:20241011T145924Z
UID:1754-1730317500-1730328300@acrogravity.com
SUMMARY:Heel-ing Workshop; Witches Night Out
DESCRIPTION:  \n  \nHeel-ing Workshop; Witches Night Out \nA costume party/workshop Event Workshop overview:\n* Greeting circle and gratitude journaling\n* Warm up/conditioning\n* Learn Heels choreography\n* Professional video for groups (Optional)
URL:https://acrogravity.com/event/heel-ing-workshop-witches-night-out/
LOCATION:Acro Gravity Academy\, 1935 NE 150th Street\, North Miami\, FL\, 33181\, United States
END:VEVENT
BEGIN:VEVENT
DTSTART;TZID=UTC:20241215T120000
DTEND;TZID=UTC:20241215T140000
DTSTAMP:20260421T225446
CREATED:20240916T175525Z
LAST-MODIFIED:20240916T175525Z
UID:1741-1734264000-1734271200@acrogravity.com
SUMMARY:Unwrapping the Holidays; YOUTH Winter Show 2024
DESCRIPTION:We are pleased to announce our Winter Show 2024; “Unwrapping the Holidays” coming up! It will be a show like no other! Performing in a showcase is an exciting\, empowering and confidence-building part of the training process. This is how students begin to learn about rehearsals and teamwork and what it’s like to perform in a professionally run production. Showcases are a wonderful way for students to demonstrate the results of their hard work in front of friends & family and to take pride in their achievement. \nDATE: Sunday\, December 15th\, 2024 \nTIME: \n12pm-2pm: Youth Showcase \nLOCATION: Acro Gravity Academy \nTo ensure our performers can show off their hard work to a full audience\, we have kept ticket prices very reasonable. We do not charge children under 3 years old to attend the showcase\, unless they will be occupying their own seat. \n– Pre-Sale Adult Tickets: $20 each \n– Pre-Sale Children Tickets 3-12yrs: $10 each \n– Tickets at the Entrance: $30 each
URL:https://acrogravity.com/event/unwrapping-the-holidays-youth-winter-show-2024/
LOCATION:Acro Gravity Academy\, 1935 NE 150th Street\, North Miami\, FL\, 33181\, United States
END:VEVENT
BEGIN:VEVENT
DTSTART;TZID=UTC:20241215T170000
DTEND;TZID=UTC:20241215T190000
DTSTAMP:20260421T225446
CREATED:20240916T175728Z
LAST-MODIFIED:20240930T151813Z
UID:1744-1734282000-1734289200@acrogravity.com
SUMMARY:Unwrapping the Holidays; ADULT Winter Show 2024
DESCRIPTION:We are pleased to announce our Winter Show 2024; “Unwrapping the Holidays” coming up! It will be a show like no other! Performing in a showcase is an exciting\, empowering and confidence-building part of the training process. This is how students begin to learn about rehearsals and teamwork and what it’s like to perform in a professionally run production. Showcases are a wonderful way for students to demonstrate the results of their hard work in front of friends & family and to take pride in their achievement. \nDATE: Sunday\, December 15th\, 2024 \nTIME: \n5pm-7pm: Adult Showcase \nLOCATION: Acro Gravity Academy \nTo ensure our performers can show off their hard work to a full audience\, we have kept ticket prices very reasonable. We do not charge children under 3 years old to attend the showcase\, unless they will be occupying their own seat. \n– Pre-Sale Adult Tickets: $20 each \n– Pre-Sale Children Tickets 3-12yrs: $10 each \n– Tickets at the Entrance: $30 each
URL:https://acrogravity.com/event/unwrapping-the-holidays-adult-winter-show-2024/
LOCATION:Acro Gravity Academy\, 1935 NE 150th Street\, North Miami\, FL\, 33181\, United States
END:VEVENT
BEGIN:VEVENT
DTSTART;TZID=UTC:20250216T153000
DTEND;TZID=UTC:20250216T173000
DTSTAMP:20260421T225446
CREATED:20250121T163636Z
LAST-MODIFIED:20250121T163636Z
UID:1789-1739719800-1739727000@acrogravity.com
SUMMARY:Social Circus Event; Building Community Through Circus Arts
DESCRIPTION:Join Us Monthly for a Day of Circus Arts and Community Connection!\nAt Acro Gravity Academy\, we invite you to a joyful and impactful day of circus arts and community building\, presented by Live the Dream Entertainment\, a 501(c)(3) Nonprofit Organization. This all-inclusive event is open to everyone. Explore\, engage\, and connect in a safe\, supportive\, and uplifting environment as part of our new Social Circus initiative. \nWhy Attend?\nWhether you’re looking to spark a new passion\, try something active and fun\, or simply enjoy an afternoon of creativity and connection\, this event is for you! Let’s build a stronger\, healthier\, and more vibrant community together. Open to all ages and skill levels. \nThis is more than just an event—it’s a chance to support a unique\, community-driven initiative. Join families\, individuals\, and local organizations in contributing to our mission of creating a more inclusive\, supportive\, and resilient community through circus arts. \n—————————————————————————————————— \nInterested in Collaborating?\nWe welcome partnerships with local businesses and organizations that share our vision. Potential partners include: \n\nFood Vendors/Restaurants: Provide refreshments or snacks for attendees.\nPhotographers/Videographers: Capture the magic of the event and highlight community stories.\nMusic Schools/Bands: Offer live performances\nNonprofits & Community Groups: Help us create an inclusive\, uplifting environment.\n\nIf you or your organization would like to collaborate\, contact us at acrogravityacademy@gmail.com. \n—————————————————————————————————— \nVolunteer With Us!\nYour time\, skills\, and expertise are invaluable to our community’s growth. By volunteering\, you contribute to the success of our events and support meaningful change. \n—————————————————————————————————— \nMake a Donation\nYour support makes a lasting impact! By donating\, you help Live the Dream Entertainment advance its mission of transforming lives through circus arts. \nYour donation will: \n\nFund programs teaching circus arts to underprivileged youth.\nProvide access to creative outlets for underserved communities.\nPromote self-expression\, creativity\, and confidence among participants.\n\nHelp us inspire and empower others through the magic of circus arts! \n—————————————————————————————————— \nOur Mission\nAt Live the Dream Entertainment\, we believe in the transformative power of circus arts. Our Social Circus events focus on reaching underprivileged and underserved communities\, with a strong commitment to working with minority groups. We create fun and engaging spaces where participants of all ages can learn\, grow\, and connect. \n—————————————————————————————————— \nBring your family\, friends\, and a giving spirit. Let’s celebrate community and empower others—one circus skill at a time!
URL:https://acrogravity.com/event/social-circus-event-building-community-through-circus-arts/
LOCATION:Acro Gravity Academy\, 1935 NE 150th Street\, North Miami\, FL\, 33181\, United States
ORGANIZER;CN="Live the Dream Entertainment Corp":MAILTO:livethedreamentertainment@gmail.com
END:VEVENT
BEGIN:VEVENT
DTSTART;TZID=UTC:20250517T170000
DTEND;TZID=UTC:20250517T190000
DTSTAMP:20260421T225446
CREATED:20250502T164349Z
LAST-MODIFIED:20250502T164349Z
UID:1811-1747501200-1747508400@acrogravity.com
SUMMARY:Social Circus; Rain of Hope
DESCRIPTION:Dive into an unforgettable evening where the power of circus arts meets a greater purpose. Social Circus: Rain of Hope is a heart-opening performance inspired by the ocean’s beauty\, mystery\, and urgent need for protection. Through breathtaking aerial acts\, contortion\, and acrobatic storytelling\, we bring attention to the delicate balance of our marine ecosystems—and the ripple effect our actions have on them. \nAs the tides shift\, so does our role in shaping a better future. This event isn’t just a show—it’s a call to action\, a celebration of community\, and a tribute to the strength found in unity and hope. \nJoin Us Monthly for a Day of Circus Arts and Community Connection!\nAt Acro Gravity Academy\, we invite you to a joyful and impactful day of circus arts and community building\, presented by Live the Dream Entertainment\, a 501(c)(3) Nonprofit Organization. This all-inclusive event is open to everyone. Explore\, engage\, and connect in a safe\, supportive\, and uplifting environment as part of our new Social Circus initiative. \nWhy Attend?\nWhether you’re looking to spark a new passion\, try something active and fun\, or simply enjoy an afternoon of creativity and connection\, this event is for you! Let’s build a stronger\, healthier\, and more vibrant community together. Open to all ages and skill levels. \nThis is more than just an event—it’s a chance to support a unique\, community-driven initiative. Join families\, individuals\, and local organizations in contributing to our mission of creating a more inclusive\, supportive\, and resilient community through circus arts. \n—————————————————————————————————— \nInterested in Collaborating?\nWe welcome partnerships with local businesses and organizations that share our vision. Potential partners include: \n\nFood Vendors/Restaurants: Provide refreshments or snacks for attendees.\nPhotographers/Videographers: Capture the magic of the event and highlight community stories.\nMusic Schools/Bands: Offer live performances\nNonprofits & Community Groups: Help us create an inclusive\, uplifting environment.\n\nIf you or your organization would like to collaborate\, contact us at livethedreamentertainment@gmail.com. \n—————————————————————————————————— \nVolunteer With Us!\nYour time\, skills\, and expertise are invaluable to our community’s growth. By volunteering\, you contribute to the success of our events and support meaningful change. \n—————————————————————————————————— \nMake a Donation\nYour support makes a lasting impact! By donating\, you help Live the Dream Entertainment advance its mission of transforming lives through circus arts. \nYour donation will: \n\nFund programs teaching circus arts to underprivileged youth.\nProvide access to creative outlets for underserved communities.\nPromote self-expression\, creativity\, and confidence among participants.\n\nHelp us inspire and empower others through the magic of circus arts! \n—————————————————————————————————— \nOur Mission\nLive the Dream Entertainment’s mission is to inspire\, uplift\, and connect communities through the transformative power of the circus arts. Through creative expression and inclusive performances\, we aim to break barriers\, create impact\, and ignite change—especially for causes bigger than ourselves. \n—————————————————————————————————— \nJoin us as we blend art\, awareness\, and advocacy in one extraordinary experience. Let the waves of emotion move you. Let the hope within you rise.
URL:https://acrogravity.com/event/social-circus-rain-of-hope/
LOCATION:Acro Gravity Academy\, 1935 NE 150th Street\, North Miami\, FL\, 33181\, United States
ORGANIZER;CN="Live the Dream Entertainment Corp":MAILTO:livethedreamentertainment@gmail.com
END:VEVENT
BEGIN:VEVENT
DTSTART;TZID=UTC:20250518T120000
DTEND;TZID=UTC:20250518T133000
DTSTAMP:20260421T225446
CREATED:20250502T171128Z
LAST-MODIFIED:20250502T171128Z
UID:1815-1747569600-1747575000@acrogravity.com
SUMMARY:Splashes & Tides of Talent; Youth Spring Show 2025
DESCRIPTION:We are beyond excited to announce our Student’s Spring Showcase 2025 – “Splashes & Tides of Talent!” Get ready to dive into a world of oceanic wonder\, as our talented students make waves with their performances! This year’s showcase will be a vibrant celebration of all the hard work\, dedication\, and creativity that’s gone into their training. From the very first rehearsal to the final bow\, the “Under the Sea” theme will take you on a magical journey\, where every flip\, leap\, and swing will feel like a splash of talent in the deep blue! \nPerforming in a showcase is an exhilarating\, empowering experience that builds confidence and teamwork. It’s a chance for students to learn the ins and outs of rehearsals and what it’s like to be part of a professionally run production. And most importantly\, it’s an opportunity for them to shine and proudly show friends and family the incredible progress they’ve made! \nDATE: Sunday\, May 18th\, 2025 \nTIME: \n12pm-2pm: Youth Showcase \n5pm-7pm: Teens & Adult Showcase \nLOCATION: Acro Gravity Academy \nTo ensure our performers can show off their hard work to a full audience\, we have kept ticket prices very reasonable. We do not charge children under 3 years old to attend the showcase\, unless they will be occupying their own seat. \n– Pre-Sale Adult Tickets: $20 each \n– Pre-Sale Children Tickets 3-12yrs: $10 each \n– Tickets at the Entrance: $30 each
URL:https://acrogravity.com/event/splashes-youth-spring-show-2025/
LOCATION:Acro Gravity Academy\, 1935 NE 150th Street\, North Miami\, FL\, 33181\, United States
END:VEVENT
BEGIN:VEVENT
DTSTART;TZID=UTC:20250518T170000
DTEND;TZID=UTC:20250518T183000
DTSTAMP:20260421T225446
CREATED:20250502T171537Z
LAST-MODIFIED:20250502T171537Z
UID:1818-1747587600-1747593000@acrogravity.com
SUMMARY:Splashes & Tides of Talent; Teens & Adult Spring Show 2025
DESCRIPTION:We are beyond excited to announce our Student’s Spring Showcase 2025 – “Splashes & Tides of Talent!” Get ready to dive into a world of oceanic wonder\, as our talented students make waves with their performances! This year’s showcase will be a vibrant celebration of all the hard work\, dedication\, and creativity that’s gone into their training. From the very first rehearsal to the final bow\, the “Under the Sea” theme will take you on a magical journey\, where every flip\, leap\, and swing will feel like a splash of talent in the deep blue! \nPerforming in a showcase is an exhilarating\, empowering experience that builds confidence and teamwork. It’s a chance for students to learn the ins and outs of rehearsals and what it’s like to be part of a professionally run production. And most importantly\, it’s an opportunity for them to shine and proudly show friends and family the incredible progress they’ve made! \nDATE: Sunday\, May 18th\, 2025 \nTIME: \n12pm-2pm: Youth Showcase \n5pm-7pm: Teens & Adult Showcase \nLOCATION: Acro Gravity Academy \nTo ensure our performers can show off their hard work to a full audience\, we have kept ticket prices very reasonable. We do not charge children under 3 years old to attend the showcase\, unless they will be occupying their own seat. \n– Pre-Sale Adult Tickets: $20 each \n– Pre-Sale Children Tickets 3-12yrs: $10 each \n– Tickets at the Entrance: $30 each
URL:https://acrogravity.com/event/splashes-teens-adult-spring-show-2025/
LOCATION:Acro Gravity Academy\, 1935 NE 150th Street\, North Miami\, FL\, 33181\, United States
END:VEVENT
BEGIN:VEVENT
DTSTART;TZID=UTC:20250928T153000
DTEND;TZID=UTC:20250928T180000
DTSTAMP:20260421T225446
CREATED:20250714T180940Z
LAST-MODIFIED:20250926T154201Z
UID:1847-1759073400-1759082400@acrogravity.com
SUMMARY:5th Year Anniversary!
DESCRIPTION:WE CAN’T WAIT FOR THIS BIG DAY! \n  \n🎉 Join Us for Our 5th Year Anniversary Celebration! 🎉We’re celebrating five incredible years of creativity\, community\, and circus magic! Come enjoy live performances\, music\, food\, and special surprises as we honor our journey and the amazing people who made it all possible. Let’s celebrate this milestone together with joy\, gratitude\, and unforgettable moments! \nYou don’t want to miss it! \n  \n📍1935 NE 150th St\, North Miami\, Fl 33181 \n  \nwhatsapp icon: 954-284-1823/ www.acrogravity.com \nAre you a business that would like to be sponsored at our event ? \n  \nSend us an email to acrogravityacademy@gmail.com and we will provide you with our different types of Sponsor Packages we have.
URL:https://acrogravity.com/event/5th-year-anniversary/
LOCATION:Acro Gravity Academy\, 1935 NE 150th Street\, North Miami\, FL\, 33181\, United States
END:VEVENT
BEGIN:VEVENT
DTSTART;TZID=UTC:20251214T120000
DTEND;TZID=UTC:20251214T133000
DTSTAMP:20260421T225446
CREATED:20251201T174535Z
LAST-MODIFIED:20251201T174535Z
UID:1935-1765713600-1765719000@acrogravity.com
SUMMARY:Rising with the Countdown: 12pm Winter Show 2025
DESCRIPTION:We are thrilled to announce our Winter Show 2025\, “Rising with the Countdown!” — a New Year’s celebration like no other!\nThis year’s show will be bursting with energy\, sparkle\, and inspiration as we count down to new dreams and new heights together. \nPerforming in a showcase is more than just being on stage — it’s an empowering and confidence-building experience where students learn teamwork\, stage presence\, and the joy of performance. Our Winter Show is a chance for every student to shine proudly in front of friends and family and celebrate their progress in a professionally produced show. \nThe theme “Rising with the Countdown” invites everyone to embrace the excitement of new beginnings and the power of believing in what’s next. \nShow Date: Sunday\, December 14th\n12 PM – Youth Showcase\n4 PM – Teens & Adult Showcase \nLOCATION: Acro Gravity Academy \nTo ensure our performers can show off their hard work to a full audience\, we have kept ticket prices very reasonable. We do not charge children under 3 years old to attend the showcase\, unless they will be occupying their own seat. \n– Pre-Sale Adult Tickets: $20 each \n– Pre-Sale Children Tickets 3-12yrs: $10 each \n– Tickets at the Entrance: $30 each
URL:https://acrogravity.com/event/rising-with-the-countdown-12pm-winter-show-2025/
LOCATION:Acro Gravity Academy\, 1935 NE 150th Street\, North Miami\, FL\, 33181\, United States
END:VEVENT
BEGIN:VEVENT
DTSTART;TZID=UTC:20251214T160000
DTEND;TZID=UTC:20251214T173000
DTSTAMP:20260421T225446
CREATED:20251201T174748Z
LAST-MODIFIED:20251201T174748Z
UID:1937-1765728000-1765733400@acrogravity.com
SUMMARY:Rising with the Countdown: 4pm Winter Show 2025
DESCRIPTION:We are thrilled to announce our Winter Show 2025\, “Rising with the Countdown!” — a New Year’s celebration like no other!\nThis year’s show will be bursting with energy\, sparkle\, and inspiration as we count down to new dreams and new heights together. \nPerforming in a showcase is more than just being on stage — it’s an empowering and confidence-building experience where students learn teamwork\, stage presence\, and the joy of performance. Our Winter Show is a chance for every student to shine proudly in front of friends and family and celebrate their progress in a professionally produced show. \nThe theme “Rising with the Countdown” invites everyone to embrace the excitement of new beginnings and the power of believing in what’s next. \nShow Date: Sunday\, December 14th\n12 PM – Youth Showcase\n4 PM – Teens & Adult Showcase \nLOCATION: Acro Gravity Academy \nTo ensure our performers can show off their hard work to a full audience\, we have kept ticket prices very reasonable. We do not charge children under 3 years old to attend the showcase\, unless they will be occupying their own seat. \n– Pre-Sale Adult Tickets: $20 each \n– Pre-Sale Children Tickets 3-12yrs: $10 each \n– Tickets at the Entrance: $30 each
URL:https://acrogravity.com/event/rising-with-the-countdown-4pm-winter-show-2025/
LOCATION:Acro Gravity Academy\, 1935 NE 150th Street\, North Miami\, FL\, 33181\, United States
END:VEVENT
BEGIN:VEVENT
DTSTART;TZID=UTC:20260220T080000
DTEND;TZID=UTC:20260222T170000
DTSTAMP:20260421T225446
CREATED:20260203T231915Z
LAST-MODIFIED:20260203T233405Z
UID:1964-1771574400-1771779600@acrogravity.com
SUMMARY:Miami Acro Fest 2026
DESCRIPTION:Miami Acro fest is a 3-day partner acrobatics festival with 28 classes for all levels. Featuring 22 teachers\, including 2x World Champion and Hall of Fame Arthur Davis\, Universal Studio Performers Zeus and Phillys\, and famous ninja and acrobats like Jon Rea (@acrowithjon) and Modern Tarzan (@moderntarzan). \nWhether you’re totally new to acro or you’ve been doing this for years\, there’s something here for you. We’ve got amazing instructors flying in from all over the world to teach workshops that’ll challenge you\, inspire you. \nThis fest is all about the people you’ll meet\, the friendships you’ll make\, and those random conversations about life while you’re stretching out after a long day. The Miami acro community knows how to bring the warmth\, and we can’t wait to share that with you. \nCome for the skills\, stay for the vibes\, and leave with memories to last a lifetime. \nJoin us at AGA and let’s make magic in Miami! 🌴 \nThis event is 21+
URL:https://acrogravity.com/event/miami-acro-fest-2026/
LOCATION:Acro Gravity Academy\, 1935 NE 150th Street\, North Miami\, FL\, 33181\, United States
END:VEVENT
BEGIN:VEVENT
DTSTART;VALUE=DATE:20260228
DTEND;VALUE=DATE:20260301
DTSTAMP:20260421T225446
CREATED:20260108T153040Z
LAST-MODIFIED:20260108T153253Z
UID:1944-1772236800-1772323199@acrogravity.com
SUMMARY:POPOVICH Comedy Pet Theater- Direct from Las Vegas!
DESCRIPTION:🎪 Direct from Las Vegas — The World-Famous Popovich Comedy Pet Theater is Coming to Acro Gravity Academy! 🎪 \nGet ready for an unforgettable\, laugh-out-loud experience the whole family will love! Popovich Comedy Pet Theaterbrings its award-winning show to North Miami for a limited engagement — and it’s packed with comedy\, circus magic\, and incredible animal stars 🐾✨ \nThis “Best Family Attraction” (L.A. Times) features a one-of-a-kind cast of talented house cats\, dogs\, parrots\, a miniature horse\, and even a mini pig\, all performing alongside hilarious clowns\, jugglers\, and acrobats. Praised as “Fantastic!” by People Magazine\, this show blends classic circus charm with modern comedy in a way that delights kids and adults alike. \n🎭 Expect: \n\n\nAmazing animal tricks & comedy \n\n\nHigh-energy circus acts \n\n\nBig laughs for all ages \n\n\nA kid-friendly pre-show that’s fun and exciting \n\n\nA unique theatrical experience you won’t see anywhere else! \n\n\n📅 Saturday\, February 28⏰ Showtimes: 4:00 PM & 6:30 PM📍 Acro Gravity Academy1935 NE 150th St\, North Miami\, FL 33181 \n🎟️ Tickets are limited — don’t wait!Perfect for families\, date night\, or a memorable outing with friends. \n👉 Get your tickets now and experience the magic of Popovich Comedy Pet Theater — where circus\, comedy\, and lovable animal stars come together for a show you’ll never forget! 🐶🐱🎪
URL:https://acrogravity.com/event/popovich-comedy-pet-theater-direct-from-las-vegas/
LOCATION:Acro Gravity Academy\, 1935 NE 150th Street\, North Miami\, FL\, 33181\, United States
END:VEVENT
BEGIN:VEVENT
DTSTART;TZID=UTC:20260503T170000
DTEND;TZID=UTC:20260503T190000
DTSTAMP:20260421T225446
CREATED:20260411T170113Z
LAST-MODIFIED:20260411T170113Z
UID:1988-1777827600-1777834800@acrogravity.com
SUMMARY:Cocoon Aerial Suspended Sound Healing Journey Gongs\, Native Flute
DESCRIPTION:✨ Suspended in Sound. Nurtured in Stillness. ✨\nAcro Gravity: The Ultimate Rebirth Experience \nStep into a deeply immersive sound healing journey designed to calm the nervous system\, release stored tension\, and restore a profound sense of inner safety. \nParticipants will be guided into a meditative state through layered healing frequencies\, breath\, and stillness—held within a space designed to feel like a return to the womb. \nThis is a sensory immersion. A full-body reset. A journey into vibration\, silence\, and surrender. \n📅 Event Details \nSunday\, May 3rd\, 2026 \n5:00 PM – 7:00 PM \n📍 1935 NE 150th St\, North Miami\, FL \n🙏 Gratitude & Healing \nSpaces are limited. Advance reservation recommended. \n🎟️ Experience Options \n$44 – Yoga Mat Floor Experience (grounded sound immersion) \n$66 – Silk Cocoon Hammock Experience (fully suspended aerial journey) \n🌿 What to Expect \nDeep sound healing journey with gongs\, bowls & healing frequencies \nNervous system regulation and guided relaxation \nDimmed\, cocoon-like immersive environment \nChoice of grounded mat or aerial silk suspension \nIntegration and grounding space after the session \n🎶 Special Guest Sound Journey \nJoin us with 1111 Gong at Acro Gravity Academy\, featuring a special guest: \nLouis Capcha \nA Native American flute player from Peru\, bringing grounding\, earth-centered tones to deepen the sound healing experience and support meditation\, presence\, and emotional release. \n🌀 The Experience \nEach participant is invited into a carefully curated sound field designed to shift brainwave states into deep rest. Those in silk cocoons are gently suspended in aerial hammocks\, while mat participants remain grounded in comfort—both held within the same unified healing soundscape.
URL:https://acrogravity.com/event/cocoon-aerial-suspended-sound-healing-journey-gongs-native-flute/
LOCATION:Acro Gravity Academy\, 1935 NE 150th Street\, North Miami\, FL\, 33181\, United States
END:VEVENT
BEGIN:VEVENT
DTSTART;TZID=UTC:20260517T120000
DTEND;TZID=UTC:20260517T140000
DTSTAMP:20260421T225446
CREATED:20260223T210411Z
LAST-MODIFIED:20260223T210411Z
UID:1966-1779019200-1779026400@acrogravity.com
SUMMARY:YOUTH Spring Show 2026: Reflection
DESCRIPTION:🌟 Youth Showcase – Spring Show 2026: “Reflection” 🌸✨\nOur Youth Showcase is a heartwarming celebration of growth\, courage\, and confidence. \n“Reflection” invites our young performers to shine as they share how far they’ve come this season — from learning new skills to building resilience and believing in themselves. Every rehearsal\, every challenge\, and every breakthrough has helped shape the strong\, confident performers they are today. \nThis special showcase highlights the magic of youth discovering their potential. Through aerial arts\, acrobatics\, and circus performance\, our students will light up the stage and inspire everyone in the audience. \nJoin us as we celebrate their dedication\, teamwork\, and the joy of performing. There is nothing more powerful than watching a child realize what they are capable of. 💫 \n🗓 Sunday\, May 17th\, 2026🕛 12pm–2pm📍 Acro Gravity Academy \nCome cheer on our rising stars!
URL:https://acrogravity.com/event/youth-spring-show-2026-reflection/
LOCATION:Acro Gravity Academy\, 1935 NE 150th Street\, North Miami\, FL\, 33181\, United States
END:VEVENT
BEGIN:VEVENT
DTSTART;TZID=UTC:20260517T160000
DTEND;TZID=UTC:20260517T180000
DTSTAMP:20260421T225446
CREATED:20260223T210831Z
LAST-MODIFIED:20260223T210831Z
UID:1969-1779033600-1779040800@acrogravity.com
SUMMARY:ADULT Spring Show 2026: Reflection
DESCRIPTION:✨ Adult Showcase – Spring Show 2026: “Reflection” 🌷💫\nOur Adult Showcase is a powerful celebration of transformation\, strength\, and self-discovery. \n“Reflection” honors the courage it takes to start something new\, to push past limitations\, and to grow beyond what once felt possible. This showcase is about resilience — about adults reclaiming confidence\, embracing creativity\, and stepping boldly into their strength. \nThrough aerial silks\, acrobatics\, and circus arts\, our adult performers will share their personal journeys — proving that growth has no age limit and that it’s never too late to challenge yourself and shine. \nJoin us for an inspiring evening that celebrates discipline\, perseverance\, and the beauty of becoming. 💖 \n🗓 Sunday\, May 17th\, 2026\n🕓 4pm–6pm\n📍 Acro Gravity Academy \nCome witness strength\, artistry\, and transformation in motion.
URL:https://acrogravity.com/event/adult-spring-show-2026-reflection/
LOCATION:Acro Gravity Academy\, 1935 NE 150th Street\, North Miami\, FL\, 33181\, United States
END:VEVENT
END:VCALENDAR