BEGIN:VCALENDAR
VERSION:2.0
PRODID:-//Acro Gravity Academy - ECPv6.15.20//NONSGML v1.0//EN
CALSCALE:GREGORIAN
METHOD:PUBLISH
X-ORIGINAL-URL:https://acrogravity.com
X-WR-CALDESC:Events for Acro Gravity Academy
REFRESH-INTERVAL;VALUE=DURATION:PT1H
X-Robots-Tag:noindex
X-PUBLISHED-TTL:PT1H
BEGIN:VTIMEZONE
TZID:UTC
BEGIN:STANDARD
TZOFFSETFROM:+0000
TZOFFSETTO:+0000
TZNAME:UTC
DTSTART:20250101T000000
END:STANDARD
END:VTIMEZONE
BEGIN:VEVENT
DTSTART;VALUE=DATE:20260228
DTEND;VALUE=DATE:20260301
DTSTAMP:20260422T150530
CREATED:20260108T153040Z
LAST-MODIFIED:20260108T153253Z
UID:1944-1772236800-1772323199@acrogravity.com
SUMMARY:POPOVICH Comedy Pet Theater- Direct from Las Vegas!
DESCRIPTION:🎪 Direct from Las Vegas — The World-Famous Popovich Comedy Pet Theater is Coming to Acro Gravity Academy! 🎪 \nGet ready for an unforgettable\, laugh-out-loud experience the whole family will love! Popovich Comedy Pet Theaterbrings its award-winning show to North Miami for a limited engagement — and it’s packed with comedy\, circus magic\, and incredible animal stars 🐾✨ \nThis “Best Family Attraction” (L.A. Times) features a one-of-a-kind cast of talented house cats\, dogs\, parrots\, a miniature horse\, and even a mini pig\, all performing alongside hilarious clowns\, jugglers\, and acrobats. Praised as “Fantastic!” by People Magazine\, this show blends classic circus charm with modern comedy in a way that delights kids and adults alike. \n🎭 Expect: \n\n\nAmazing animal tricks & comedy \n\n\nHigh-energy circus acts \n\n\nBig laughs for all ages \n\n\nA kid-friendly pre-show that’s fun and exciting \n\n\nA unique theatrical experience you won’t see anywhere else! \n\n\n📅 Saturday\, February 28⏰ Showtimes: 4:00 PM & 6:30 PM📍 Acro Gravity Academy1935 NE 150th St\, North Miami\, FL 33181 \n🎟️ Tickets are limited — don’t wait!Perfect for families\, date night\, or a memorable outing with friends. \n👉 Get your tickets now and experience the magic of Popovich Comedy Pet Theater — where circus\, comedy\, and lovable animal stars come together for a show you’ll never forget! 🐶🐱🎪
URL:https://acrogravity.com/event/popovich-comedy-pet-theater-direct-from-las-vegas/
LOCATION:Acro Gravity Academy\, 1935 NE 150th Street\, North Miami\, FL\, 33181\, United States
END:VEVENT
END:VCALENDAR