BEGIN:VCALENDAR
VERSION:2.0
PRODID:-//Acro Gravity Academy - ECPv6.15.20//NONSGML v1.0//EN
CALSCALE:GREGORIAN
METHOD:PUBLISH
X-ORIGINAL-URL:https://acrogravity.com
X-WR-CALDESC:Events for Acro Gravity Academy
REFRESH-INTERVAL;VALUE=DURATION:PT1H
X-Robots-Tag:noindex
X-PUBLISHED-TTL:PT1H
BEGIN:VTIMEZONE
TZID:UTC
BEGIN:STANDARD
TZOFFSETFROM:+0000
TZOFFSETTO:+0000
TZNAME:UTC
DTSTART:20250101T000000
END:STANDARD
END:VTIMEZONE
BEGIN:VEVENT
DTSTART;TZID=UTC:20260220T080000
DTEND;TZID=UTC:20260222T170000
DTSTAMP:20260422T150650
CREATED:20260203T231915Z
LAST-MODIFIED:20260203T233405Z
UID:1964-1771574400-1771779600@acrogravity.com
SUMMARY:Miami Acro Fest 2026
DESCRIPTION:Miami Acro fest is a 3-day partner acrobatics festival with 28 classes for all levels. Featuring 22 teachers\, including 2x World Champion and Hall of Fame Arthur Davis\, Universal Studio Performers Zeus and Phillys\, and famous ninja and acrobats like Jon Rea (@acrowithjon) and Modern Tarzan (@moderntarzan). \nWhether you’re totally new to acro or you’ve been doing this for years\, there’s something here for you. We’ve got amazing instructors flying in from all over the world to teach workshops that’ll challenge you\, inspire you. \nThis fest is all about the people you’ll meet\, the friendships you’ll make\, and those random conversations about life while you’re stretching out after a long day. The Miami acro community knows how to bring the warmth\, and we can’t wait to share that with you. \nCome for the skills\, stay for the vibes\, and leave with memories to last a lifetime. \nJoin us at AGA and let’s make magic in Miami! 🌴 \nThis event is 21+
URL:https://acrogravity.com/event/miami-acro-fest-2026/
LOCATION:Acro Gravity Academy\, 1935 NE 150th Street\, North Miami\, FL\, 33181\, United States
END:VEVENT
END:VCALENDAR