BEGIN:VCALENDAR
VERSION:2.0
PRODID:-//Acro Gravity Academy - ECPv6.15.20//NONSGML v1.0//EN
CALSCALE:GREGORIAN
METHOD:PUBLISH
X-WR-CALNAME:Acro Gravity Academy
X-ORIGINAL-URL:https://acrogravity.com
X-WR-CALDESC:Events for Acro Gravity Academy
REFRESH-INTERVAL;VALUE=DURATION:PT1H
X-Robots-Tag:noindex
X-PUBLISHED-TTL:PT1H
BEGIN:VTIMEZONE
TZID:UTC
BEGIN:STANDARD
TZOFFSETFROM:+0000
TZOFFSETTO:+0000
TZNAME:UTC
DTSTART:20230101T000000
END:STANDARD
END:VTIMEZONE
BEGIN:VEVENT
DTSTART;TZID=UTC:20240814T194500
DTEND;TZID=UTC:20240814T224500
DTSTAMP:20260421T115856
CREATED:20240727T181946Z
LAST-MODIFIED:20240727T181946Z
UID:1619-1723664700-1723675500@acrogravity.com
SUMMARY:Heel-ing Workshop- The Sexiest Birthday Celebration
DESCRIPTION:Celebrate my birthday with me!\nWorkshop overview:\n* Greeting circle and gratitude journaling\n* Warm up/conditioning\n* Learn Heels choreography\n* Professional video for groups (Optional)
URL:https://acrogravity.com/event/heel-ing-workshop-the-sexiest-birthday-celebration/
LOCATION:Acro Gravity Academy\, 1935 NE 150th Street\, North Miami\, FL\, 33181\, United States
END:VEVENT
END:VCALENDAR